BEGIN:VCALENDAR
VERSION:2.0
PRODID:-//jEvents 2.0 for Joomla//EN
CALSCALE:GREGORIAN
METHOD:PUBLISH
BEGIN:VTIMEZONE
TZID:America/Denver
BEGIN:STANDARD
DTSTART:20151101T010000
RDATE:20160313T030000
TZOFFSETFROM:-0600
TZOFFSETTO:-0700
TZNAME:America/Denver MST
END:STANDARD
BEGIN:STANDARD
DTSTART:20161106T010000
RDATE:20170312T030000
TZOFFSETFROM:-0600
TZOFFSETTO:-0700
TZNAME:America/Denver MST
END:STANDARD
BEGIN:STANDARD
DTSTART:20171105T010000
RDATE:20180311T030000
TZOFFSETFROM:-0600
TZOFFSETTO:-0700
TZNAME:America/Denver MST
END:STANDARD
BEGIN:STANDARD
DTSTART:20181104T010000
RDATE:20190310T030000
TZOFFSETFROM:-0600
TZOFFSETTO:-0700
TZNAME:America/Denver MST
END:STANDARD
BEGIN:STANDARD
DTSTART:20191103T010000
RDATE:20200308T030000
TZOFFSETFROM:-0600
TZOFFSETTO:-0700
TZNAME:America/Denver MST
END:STANDARD
BEGIN:STANDARD
DTSTART:20201101T010000
RDATE:20210314T030000
TZOFFSETFROM:-0600
TZOFFSETTO:-0700
TZNAME:America/Denver MST
END:STANDARD
BEGIN:STANDARD
DTSTART:20211107T010000
RDATE:20220313T030000
TZOFFSETFROM:-0600
TZOFFSETTO:-0700
TZNAME:America/Denver MST
END:STANDARD
BEGIN:STANDARD
DTSTART:20221106T010000
RDATE:20230312T030000
TZOFFSETFROM:-0600
TZOFFSETTO:-0700
TZNAME:America/Denver MST
END:STANDARD
BEGIN:STANDARD
DTSTART:20231105T010000
RDATE:20240310T030000
TZOFFSETFROM:-0600
TZOFFSETTO:-0700
TZNAME:America/Denver MST
END:STANDARD
BEGIN:STANDARD
DTSTART:20241103T010000
RDATE:20250309T030000
TZOFFSETFROM:-0600
TZOFFSETTO:-0700
TZNAME:America/Denver MST
END:STANDARD
BEGIN:STANDARD
DTSTART:20251102T010000
RDATE:20260308T030000
TZOFFSETFROM:-0600
TZOFFSETTO:-0700
TZNAME:America/Denver MST
END:STANDARD
BEGIN:STANDARD
DTSTART:20261101T010000
RDATE:20270314T030000
TZOFFSETFROM:-0600
TZOFFSETTO:-0700
TZNAME:America/Denver MST
END:STANDARD
BEGIN:STANDARD
DTSTART:20271107T010000
RDATE:20280312T030000
TZOFFSETFROM:-0600
TZOFFSETTO:-0700
TZNAME:America/Denver MST
END:STANDARD
BEGIN:STANDARD
DTSTART:20281105T010000
RDATE:20290311T030000
TZOFFSETFROM:-0600
TZOFFSETTO:-0700
TZNAME:America/Denver MST
END:STANDARD
BEGIN:STANDARD
DTSTART:20291104T010000
RDATE:20300310T030000
TZOFFSETFROM:-0600
TZOFFSETTO:-0700
TZNAME:America/Denver MST
END:STANDARD
BEGIN:STANDARD
DTSTART:20301103T010000
RDATE:20310309T030000
TZOFFSETFROM:-0600
TZOFFSETTO:-0700
TZNAME:America/Denver MST
END:STANDARD
BEGIN:STANDARD
DTSTART:20311102T010000
RDATE:20320314T030000
TZOFFSETFROM:-0600
TZOFFSETTO:-0700
TZNAME:America/Denver MST
END:STANDARD
BEGIN:STANDARD
DTSTART:20321107T010000
RDATE:20330313T030000
TZOFFSETFROM:-0600
TZOFFSETTO:-0700
TZNAME:America/Denver MST
END:STANDARD
BEGIN:STANDARD
DTSTART:20331106T010000
RDATE:20340312T030000
TZOFFSETFROM:-0600
TZOFFSETTO:-0700
TZNAME:America/Denver MST
END:STANDARD
BEGIN:STANDARD
DTSTART:20341105T010000
RDATE:20350311T030000
TZOFFSETFROM:-0600
TZOFFSETTO:-0700
TZNAME:America/Denver MST
END:STANDARD
BEGIN:STANDARD
DTSTART:20351104T010000
RDATE:20360309T030000
TZOFFSETFROM:-0600
TZOFFSETTO:-0700
TZNAME:America/Denver MST
END:STANDARD
BEGIN:STANDARD
DTSTART:20361102T010000
RDATE:20370308T030000
TZOFFSETFROM:-0600
TZOFFSETTO:-0700
TZNAME:America/Denver MST
END:STANDARD
BEGIN:DAYLIGHT
DTSTART:20150622T173000
RDATE:20151101T010000
TZOFFSETFROM:-0700
TZOFFSETTO:-0600
TZNAME:America/Denver MDT
END:DAYLIGHT
BEGIN:DAYLIGHT
DTSTART:20160313T030000
RDATE:20161106T010000
TZOFFSETFROM:-0700
TZOFFSETTO:-0600
TZNAME:America/Denver MDT
END:DAYLIGHT
BEGIN:DAYLIGHT
DTSTART:20170312T030000
RDATE:20171105T010000
TZOFFSETFROM:-0700
TZOFFSETTO:-0600
TZNAME:America/Denver MDT
END:DAYLIGHT
BEGIN:DAYLIGHT
DTSTART:20180311T030000
RDATE:20181104T010000
TZOFFSETFROM:-0700
TZOFFSETTO:-0600
TZNAME:America/Denver MDT
END:DAYLIGHT
BEGIN:DAYLIGHT
DTSTART:20190310T030000
RDATE:20191103T010000
TZOFFSETFROM:-0700
TZOFFSETTO:-0600
TZNAME:America/Denver MDT
END:DAYLIGHT
BEGIN:DAYLIGHT
DTSTART:20200308T030000
RDATE:20201101T010000
TZOFFSETFROM:-0700
TZOFFSETTO:-0600
TZNAME:America/Denver MDT
END:DAYLIGHT
BEGIN:DAYLIGHT
DTSTART:20210314T030000
RDATE:20211107T010000
TZOFFSETFROM:-0700
TZOFFSETTO:-0600
TZNAME:America/Denver MDT
END:DAYLIGHT
BEGIN:DAYLIGHT
DTSTART:20220313T030000
RDATE:20221106T010000
TZOFFSETFROM:-0700
TZOFFSETTO:-0600
TZNAME:America/Denver MDT
END:DAYLIGHT
BEGIN:DAYLIGHT
DTSTART:20230312T030000
RDATE:20231105T010000
TZOFFSETFROM:-0700
TZOFFSETTO:-0600
TZNAME:America/Denver MDT
END:DAYLIGHT
BEGIN:DAYLIGHT
DTSTART:20240310T030000
RDATE:20241103T010000
TZOFFSETFROM:-0700
TZOFFSETTO:-0600
TZNAME:America/Denver MDT
END:DAYLIGHT
BEGIN:DAYLIGHT
DTSTART:20250309T030000
RDATE:20251102T010000
TZOFFSETFROM:-0700
TZOFFSETTO:-0600
TZNAME:America/Denver MDT
END:DAYLIGHT
BEGIN:DAYLIGHT
DTSTART:20260308T030000
RDATE:20261101T010000
TZOFFSETFROM:-0700
TZOFFSETTO:-0600
TZNAME:America/Denver MDT
END:DAYLIGHT
BEGIN:DAYLIGHT
DTSTART:20270314T030000
RDATE:20271107T010000
TZOFFSETFROM:-0700
TZOFFSETTO:-0600
TZNAME:America/Denver MDT
END:DAYLIGHT
BEGIN:DAYLIGHT
DTSTART:20280312T030000
RDATE:20281105T010000
TZOFFSETFROM:-0700
TZOFFSETTO:-0600
TZNAME:America/Denver MDT
END:DAYLIGHT
BEGIN:DAYLIGHT
DTSTART:20290311T030000
RDATE:20291104T010000
TZOFFSETFROM:-0700
TZOFFSETTO:-0600
TZNAME:America/Denver MDT
END:DAYLIGHT
BEGIN:DAYLIGHT
DTSTART:20300310T030000
RDATE:20301103T010000
TZOFFSETFROM:-0700
TZOFFSETTO:-0600
TZNAME:America/Denver MDT
END:DAYLIGHT
BEGIN:DAYLIGHT
DTSTART:20310309T030000
RDATE:20311102T010000
TZOFFSETFROM:-0700
TZOFFSETTO:-0600
TZNAME:America/Denver MDT
END:DAYLIGHT
BEGIN:DAYLIGHT
DTSTART:20320314T030000
RDATE:20321107T010000
TZOFFSETFROM:-0700
TZOFFSETTO:-0600
TZNAME:America/Denver MDT
END:DAYLIGHT
BEGIN:DAYLIGHT
DTSTART:20330313T030000
RDATE:20331106T010000
TZOFFSETFROM:-0700
TZOFFSETTO:-0600
TZNAME:America/Denver MDT
END:DAYLIGHT
BEGIN:DAYLIGHT
DTSTART:20340312T030000
RDATE:20341105T010000
TZOFFSETFROM:-0700
TZOFFSETTO:-0600
TZNAME:America/Denver MDT
END:DAYLIGHT
BEGIN:DAYLIGHT
DTSTART:20350311T030000
RDATE:20351104T010000
TZOFFSETFROM:-0700
TZOFFSETTO:-0600
TZNAME:America/Denver MDT
END:DAYLIGHT
BEGIN:DAYLIGHT
DTSTART:20360309T030000
RDATE:20361102T010000
TZOFFSETFROM:-0700
TZOFFSETTO:-0600
TZNAME:America/Denver MDT
END:DAYLIGHT
END:VTIMEZONE
BEGIN:VEVENT
UID:e3ebce4d2dc96bd8be70b8473a640a98
CATEGORIES:Public Meetings
CREATED:20160616T180514
SUMMARY:Silver City Bicycle Master Plan Meeting
LOCATION:City Annex Building
DESCRIPTION:	The Town of Silver City is seeking public input on the final draft of the 
 Bicycle Master Plan. This is the final public meeting in the planning proce
 ss. For those not able to attend, written comments can be sent to the Offic
 e of Sustainability, P.O. Box 1188, Silver City NM 88062; or email This ema
 il address is being protected from spambots. You need JavaScript enabled to
  view it.\n
X-ALT-DESC;FMTTYPE=text/html:<p>	The Town of Silver City is seeking public input on the final draft of t
 he Bicycle Master Plan. This is the final public meeting in the planning pr
 ocess. For those not able to attend, written comments can be sent to the Of
 fice of Sustainability, P.O. Box 1188, Silver City NM 88062; or email <joom
 la-hidden-mail  is-link="0" is-email="1" first="PGEgaHJlZj0iZGVuaXNlc21pdGh
 ucGM=" last="Z21haWwuY29tIj5kZW5pc2VzbWl0aG5wYw==" text="PGEgaHJlZj0iZGVuaX
 Nlc21pdGhucGNAZ21haWwuY29tIj5kZW5pc2VzbWl0aG5wY0BnbWFpbC5jb208L2E+" base=""
  >This email address is being protected from spambots. You need JavaScript 
 enabled to view it.</joomla-hidden-mail></p>
CONTACT:This email address is being protected from spambots. You need JavaScript enabled to view it.
DTSTAMP:20260423T033024
DTSTART;TZID=America/Denver:20160622T173000
DTEND;TZID=America/Denver:20160622T190000
SEQUENCE:0
TRANSP:OPAQUE
END:VEVENT
END:VCALENDAR