BEGIN:VCALENDAR
VERSION:2.0
PRODID:-//jEvents 2.0 for Joomla//EN
CALSCALE:GREGORIAN
METHOD:PUBLISH
BEGIN:VTIMEZONE
TZID:America/Denver
BEGIN:STANDARD
DTSTART:20211107T010000
RDATE:20220313T030000
TZOFFSETFROM:-0600
TZOFFSETTO:-0700
TZNAME:America/Denver MST
END:STANDARD
BEGIN:STANDARD
DTSTART:20221106T010000
RDATE:20230312T030000
TZOFFSETFROM:-0600
TZOFFSETTO:-0700
TZNAME:America/Denver MST
END:STANDARD
BEGIN:STANDARD
DTSTART:20231105T010000
RDATE:20240310T030000
TZOFFSETFROM:-0600
TZOFFSETTO:-0700
TZNAME:America/Denver MST
END:STANDARD
BEGIN:STANDARD
DTSTART:20241103T010000
RDATE:20250309T030000
TZOFFSETFROM:-0600
TZOFFSETTO:-0700
TZNAME:America/Denver MST
END:STANDARD
BEGIN:STANDARD
DTSTART:20251102T010000
RDATE:20260308T030000
TZOFFSETFROM:-0600
TZOFFSETTO:-0700
TZNAME:America/Denver MST
END:STANDARD
BEGIN:STANDARD
DTSTART:20261101T010000
RDATE:20270314T030000
TZOFFSETFROM:-0600
TZOFFSETTO:-0700
TZNAME:America/Denver MST
END:STANDARD
BEGIN:STANDARD
DTSTART:20271107T010000
RDATE:20280312T030000
TZOFFSETFROM:-0600
TZOFFSETTO:-0700
TZNAME:America/Denver MST
END:STANDARD
BEGIN:STANDARD
DTSTART:20281105T010000
RDATE:20290311T030000
TZOFFSETFROM:-0600
TZOFFSETTO:-0700
TZNAME:America/Denver MST
END:STANDARD
BEGIN:STANDARD
DTSTART:20291104T010000
RDATE:20300310T030000
TZOFFSETFROM:-0600
TZOFFSETTO:-0700
TZNAME:America/Denver MST
END:STANDARD
BEGIN:STANDARD
DTSTART:20301103T010000
RDATE:20310309T030000
TZOFFSETFROM:-0600
TZOFFSETTO:-0700
TZNAME:America/Denver MST
END:STANDARD
BEGIN:STANDARD
DTSTART:20311102T010000
RDATE:20320314T030000
TZOFFSETFROM:-0600
TZOFFSETTO:-0700
TZNAME:America/Denver MST
END:STANDARD
BEGIN:STANDARD
DTSTART:20321107T010000
RDATE:20330313T030000
TZOFFSETFROM:-0600
TZOFFSETTO:-0700
TZNAME:America/Denver MST
END:STANDARD
BEGIN:STANDARD
DTSTART:20331106T010000
RDATE:20340312T030000
TZOFFSETFROM:-0600
TZOFFSETTO:-0700
TZNAME:America/Denver MST
END:STANDARD
BEGIN:STANDARD
DTSTART:20341105T010000
RDATE:20350311T030000
TZOFFSETFROM:-0600
TZOFFSETTO:-0700
TZNAME:America/Denver MST
END:STANDARD
BEGIN:STANDARD
DTSTART:20351104T010000
RDATE:20360309T030000
TZOFFSETFROM:-0600
TZOFFSETTO:-0700
TZNAME:America/Denver MST
END:STANDARD
BEGIN:STANDARD
DTSTART:20361102T010000
RDATE:20370308T030000
TZOFFSETFROM:-0600
TZOFFSETTO:-0700
TZNAME:America/Denver MST
END:STANDARD
BEGIN:DAYLIGHT
DTSTART:20211014T090000
RDATE:20211107T010000
TZOFFSETFROM:-0700
TZOFFSETTO:-0600
TZNAME:America/Denver MDT
END:DAYLIGHT
BEGIN:DAYLIGHT
DTSTART:20220313T030000
RDATE:20221106T010000
TZOFFSETFROM:-0700
TZOFFSETTO:-0600
TZNAME:America/Denver MDT
END:DAYLIGHT
BEGIN:DAYLIGHT
DTSTART:20230312T030000
RDATE:20231105T010000
TZOFFSETFROM:-0700
TZOFFSETTO:-0600
TZNAME:America/Denver MDT
END:DAYLIGHT
BEGIN:DAYLIGHT
DTSTART:20240310T030000
RDATE:20241103T010000
TZOFFSETFROM:-0700
TZOFFSETTO:-0600
TZNAME:America/Denver MDT
END:DAYLIGHT
BEGIN:DAYLIGHT
DTSTART:20250309T030000
RDATE:20251102T010000
TZOFFSETFROM:-0700
TZOFFSETTO:-0600
TZNAME:America/Denver MDT
END:DAYLIGHT
BEGIN:DAYLIGHT
DTSTART:20260308T030000
RDATE:20261101T010000
TZOFFSETFROM:-0700
TZOFFSETTO:-0600
TZNAME:America/Denver MDT
END:DAYLIGHT
BEGIN:DAYLIGHT
DTSTART:20270314T030000
RDATE:20271107T010000
TZOFFSETFROM:-0700
TZOFFSETTO:-0600
TZNAME:America/Denver MDT
END:DAYLIGHT
BEGIN:DAYLIGHT
DTSTART:20280312T030000
RDATE:20281105T010000
TZOFFSETFROM:-0700
TZOFFSETTO:-0600
TZNAME:America/Denver MDT
END:DAYLIGHT
BEGIN:DAYLIGHT
DTSTART:20290311T030000
RDATE:20291104T010000
TZOFFSETFROM:-0700
TZOFFSETTO:-0600
TZNAME:America/Denver MDT
END:DAYLIGHT
BEGIN:DAYLIGHT
DTSTART:20300310T030000
RDATE:20301103T010000
TZOFFSETFROM:-0700
TZOFFSETTO:-0600
TZNAME:America/Denver MDT
END:DAYLIGHT
BEGIN:DAYLIGHT
DTSTART:20310309T030000
RDATE:20311102T010000
TZOFFSETFROM:-0700
TZOFFSETTO:-0600
TZNAME:America/Denver MDT
END:DAYLIGHT
BEGIN:DAYLIGHT
DTSTART:20320314T030000
RDATE:20321107T010000
TZOFFSETFROM:-0700
TZOFFSETTO:-0600
TZNAME:America/Denver MDT
END:DAYLIGHT
BEGIN:DAYLIGHT
DTSTART:20330313T030000
RDATE:20331106T010000
TZOFFSETFROM:-0700
TZOFFSETTO:-0600
TZNAME:America/Denver MDT
END:DAYLIGHT
BEGIN:DAYLIGHT
DTSTART:20340312T030000
RDATE:20341105T010000
TZOFFSETFROM:-0700
TZOFFSETTO:-0600
TZNAME:America/Denver MDT
END:DAYLIGHT
BEGIN:DAYLIGHT
DTSTART:20350311T030000
RDATE:20351104T010000
TZOFFSETFROM:-0700
TZOFFSETTO:-0600
TZNAME:America/Denver MDT
END:DAYLIGHT
BEGIN:DAYLIGHT
DTSTART:20360309T030000
RDATE:20361102T010000
TZOFFSETFROM:-0700
TZOFFSETTO:-0600
TZNAME:America/Denver MDT
END:DAYLIGHT
END:VTIMEZONE
BEGIN:VEVENT
UID:e25c7ed41366a9fa677a6a9c8e9676e2
CATEGORIES:Social Events
CREATED:20221009T215015
SUMMARY:Pick It Up – Toss No Mas to hold Trash Bash Community Cleanup October 15, 2022
DESCRIPTION:<p>Join the anti-litter program Pick it Up – Toss No Mas for a community-wi
 de Trash Bash on Saturday, October 15, 2022. </p><p>Meet the Pick It Up – T
 oss No Mas team in the Gough Park parking lot at 9 am on Saturday, October 
 15 and pick up trash bags, gloves, trash pickers and snacks.</p><p>Let ever
 yone know that your part of the team keeping Silver City clean and beautifu
 l and grab your free Pick It Up – Toss No Mas t-shirt while supplies last. 
  </p><p>Enjoy Einstein’s bagels with other volunteers before you head out t
 o clean up litter at a location of your choice.</p><p>Return to Gough Park 
 between 11 am and noon to drop off trash and recyclables and record your cl
 eanup results that will qualify you for prizes.</p><p>Volunteers should wea
 r closed-toe shoes and bring a hat, water bottle, and sunscreen. Children 1
 7 and under must be accompanied by a parent or guardian. Because children u
 nder 12 are not permitted on state highways for the cleanup, families with 
 younger children are encouraged to clean up litter in their neighborhood, l
 ocal parks or waterways.</p><p>Volunteers are the foundation of the Pick It
  Up – Toss No Mas program.</p><p>Since October, over 293 volunteers have de
 dicated more than 783 volunteer hours to the anti-litter program. Volunteer
 s have picked up 8,209 pounds of trash, debris and recyclables from Highway
 s 180 and 90, Silver City neighborhoods, Big Ditch Park and San Vicente Cre
 ek.</p><p>Monthly Pick It Up – Toss No Mas cleanup events are held the thir
 d Saturday of every month. Community members can also adopt a roadway or wa
 terway to take care of and clean up throughout the year. Alternatively, you
  can organize your own cleanup, and Pick It Up – Toss No Mas can supply the
  trash pickers, trash bags and gloves for your event.</p><p>Pick It Up – To
 ss No Mas community cleanup events are partially funded by a grant from New
  Mexico Clean and Beautiful and are sponsored by the Town of Silver City, S
 ilver City Watershed Keepers, Silver City Recycles, Silver City MainStreet,
  SWNMACT, Southwest Solid Waste Authority, and New Mexico Department of Tra
 nsportation’s Toss No Mas Program.</p><p>More information for the event can
  be found at silvercitywatershedkeepers.org or contact the Silver City Wate
 rshed Keepers at 575-538-8078 or via email at <joomla-hidden-mail  is-link=
 "1" is-email="1" first="cGlja2l0dXB0b3Nzbm9tYXM=" last="Z21haWwuY29t" text=
 "cGlja2l0dXB0b3Nzbm9tYXNAZ21haWwuY29t" base=""  target="_blank">This email 
 address is being protected from spambots. You need JavaScript enabled to vi
 ew it.</joomla-hidden-mail> </p><p><br /><br /></p>
DTSTAMP:20260425T140818
DTSTART;TZID=America/Denver:20221015T090000
SEQUENCE:0
TRANSP:OPAQUE
END:VEVENT
END:VCALENDAR