BEGIN:VCALENDAR
VERSION:2.0
PRODID:-//jEvents 2.0 for Joomla//EN
CALSCALE:GREGORIAN
METHOD:PUBLISH
BEGIN:VTIMEZONE
TZID:America/Denver
BEGIN:STANDARD
DTSTART:20211217T090000
RDATE:20220313T030000
TZOFFSETFROM:-0600
TZOFFSETTO:-0700
TZNAME:America/Denver MST
END:STANDARD
BEGIN:STANDARD
DTSTART:20221106T010000
RDATE:20230312T030000
TZOFFSETFROM:-0600
TZOFFSETTO:-0700
TZNAME:America/Denver MST
END:STANDARD
BEGIN:STANDARD
DTSTART:20231105T010000
RDATE:20240310T030000
TZOFFSETFROM:-0600
TZOFFSETTO:-0700
TZNAME:America/Denver MST
END:STANDARD
BEGIN:STANDARD
DTSTART:20241103T010000
RDATE:20250309T030000
TZOFFSETFROM:-0600
TZOFFSETTO:-0700
TZNAME:America/Denver MST
END:STANDARD
BEGIN:STANDARD
DTSTART:20251102T010000
RDATE:20260308T030000
TZOFFSETFROM:-0600
TZOFFSETTO:-0700
TZNAME:America/Denver MST
END:STANDARD
BEGIN:STANDARD
DTSTART:20261101T010000
RDATE:20270314T030000
TZOFFSETFROM:-0600
TZOFFSETTO:-0700
TZNAME:America/Denver MST
END:STANDARD
BEGIN:STANDARD
DTSTART:20271107T010000
RDATE:20280312T030000
TZOFFSETFROM:-0600
TZOFFSETTO:-0700
TZNAME:America/Denver MST
END:STANDARD
BEGIN:STANDARD
DTSTART:20281105T010000
RDATE:20290311T030000
TZOFFSETFROM:-0600
TZOFFSETTO:-0700
TZNAME:America/Denver MST
END:STANDARD
BEGIN:STANDARD
DTSTART:20291104T010000
RDATE:20300310T030000
TZOFFSETFROM:-0600
TZOFFSETTO:-0700
TZNAME:America/Denver MST
END:STANDARD
BEGIN:STANDARD
DTSTART:20301103T010000
RDATE:20310309T030000
TZOFFSETFROM:-0600
TZOFFSETTO:-0700
TZNAME:America/Denver MST
END:STANDARD
BEGIN:STANDARD
DTSTART:20311102T010000
RDATE:20320314T030000
TZOFFSETFROM:-0600
TZOFFSETTO:-0700
TZNAME:America/Denver MST
END:STANDARD
BEGIN:STANDARD
DTSTART:20321107T010000
RDATE:20330313T030000
TZOFFSETFROM:-0600
TZOFFSETTO:-0700
TZNAME:America/Denver MST
END:STANDARD
BEGIN:STANDARD
DTSTART:20331106T010000
RDATE:20340312T030000
TZOFFSETFROM:-0600
TZOFFSETTO:-0700
TZNAME:America/Denver MST
END:STANDARD
BEGIN:STANDARD
DTSTART:20341105T010000
RDATE:20350311T030000
TZOFFSETFROM:-0600
TZOFFSETTO:-0700
TZNAME:America/Denver MST
END:STANDARD
BEGIN:STANDARD
DTSTART:20351104T010000
RDATE:20360309T030000
TZOFFSETFROM:-0600
TZOFFSETTO:-0700
TZNAME:America/Denver MST
END:STANDARD
BEGIN:STANDARD
DTSTART:20361102T010000
RDATE:20370308T030000
TZOFFSETFROM:-0600
TZOFFSETTO:-0700
TZNAME:America/Denver MST
END:STANDARD
BEGIN:DAYLIGHT
DTSTART:20220313T030000
RDATE:20221106T010000
TZOFFSETFROM:-0700
TZOFFSETTO:-0600
TZNAME:America/Denver MDT
END:DAYLIGHT
BEGIN:DAYLIGHT
DTSTART:20230312T030000
RDATE:20231105T010000
TZOFFSETFROM:-0700
TZOFFSETTO:-0600
TZNAME:America/Denver MDT
END:DAYLIGHT
BEGIN:DAYLIGHT
DTSTART:20240310T030000
RDATE:20241103T010000
TZOFFSETFROM:-0700
TZOFFSETTO:-0600
TZNAME:America/Denver MDT
END:DAYLIGHT
BEGIN:DAYLIGHT
DTSTART:20250309T030000
RDATE:20251102T010000
TZOFFSETFROM:-0700
TZOFFSETTO:-0600
TZNAME:America/Denver MDT
END:DAYLIGHT
BEGIN:DAYLIGHT
DTSTART:20260308T030000
RDATE:20261101T010000
TZOFFSETFROM:-0700
TZOFFSETTO:-0600
TZNAME:America/Denver MDT
END:DAYLIGHT
BEGIN:DAYLIGHT
DTSTART:20270314T030000
RDATE:20271107T010000
TZOFFSETFROM:-0700
TZOFFSETTO:-0600
TZNAME:America/Denver MDT
END:DAYLIGHT
BEGIN:DAYLIGHT
DTSTART:20280312T030000
RDATE:20281105T010000
TZOFFSETFROM:-0700
TZOFFSETTO:-0600
TZNAME:America/Denver MDT
END:DAYLIGHT
BEGIN:DAYLIGHT
DTSTART:20290311T030000
RDATE:20291104T010000
TZOFFSETFROM:-0700
TZOFFSETTO:-0600
TZNAME:America/Denver MDT
END:DAYLIGHT
BEGIN:DAYLIGHT
DTSTART:20300310T030000
RDATE:20301103T010000
TZOFFSETFROM:-0700
TZOFFSETTO:-0600
TZNAME:America/Denver MDT
END:DAYLIGHT
BEGIN:DAYLIGHT
DTSTART:20310309T030000
RDATE:20311102T010000
TZOFFSETFROM:-0700
TZOFFSETTO:-0600
TZNAME:America/Denver MDT
END:DAYLIGHT
BEGIN:DAYLIGHT
DTSTART:20320314T030000
RDATE:20321107T010000
TZOFFSETFROM:-0700
TZOFFSETTO:-0600
TZNAME:America/Denver MDT
END:DAYLIGHT
BEGIN:DAYLIGHT
DTSTART:20330313T030000
RDATE:20331106T010000
TZOFFSETFROM:-0700
TZOFFSETTO:-0600
TZNAME:America/Denver MDT
END:DAYLIGHT
BEGIN:DAYLIGHT
DTSTART:20340312T030000
RDATE:20341105T010000
TZOFFSETFROM:-0700
TZOFFSETTO:-0600
TZNAME:America/Denver MDT
END:DAYLIGHT
BEGIN:DAYLIGHT
DTSTART:20350311T030000
RDATE:20351104T010000
TZOFFSETFROM:-0700
TZOFFSETTO:-0600
TZNAME:America/Denver MDT
END:DAYLIGHT
BEGIN:DAYLIGHT
DTSTART:20360309T030000
RDATE:20361102T010000
TZOFFSETFROM:-0700
TZOFFSETTO:-0600
TZNAME:America/Denver MDT
END:DAYLIGHT
END:VTIMEZONE
BEGIN:VEVENT
UID:96fcd9b99fcde65257675dc34656594b
CATEGORIES:Public Meetings
CREATED:20221211T222902
SUMMARY:December 18 at 10:00 am, 3845 North Swan Street  – “Anita Scott Coleman,” at the Unitarian Universalist Fellowship
LOCATION:3845 N Swan Street
DESCRIPTION:<p>Ashley Smith, Registrar and Collections Manager for the Silver City Muse
 um, will give a general overview of the life and work of Anita Scott Colema
 n, a New Mexico writer who participated in the Harlem Renaissance and was a
  key figure in the African American community.</p><p>“Coleman was a unique 
 voice who did not shy away from discussing the psychological damage of Amer
 ica's racial policies, sexism, gender, and marriage,” Smith said.  “Looking
  at Coleman’s life and work, as part of a community that has flown mostly u
 nder the radar, will be enlightening.” </p><p>Ashley M. Smith is originally
  from Salt Lake City, Utah, where she attended the University of Utah, rece
 iving her B.A. in History in 2000.  She interned at the Utah State Historic
 al Society’s Preservation Planning Department in 2002, which led her to the
  Public History Program at Arizona State University.  She graduated with a 
 double M.A. in American History, where she focused on the History of women;
  and Public History, where she focused on Museum and Collections Management
 . During that time, she was an intern at the Arizona Historical Society. </
 p><hr id="system-readmore" /><p>Smith graduated in 2005 and returned to Uta
 h where she worked at the Utah Museum of Fine Art under their Conservator; 
 and at the Park City Historical Society and Museum as a Curatorial Assistan
 t.  She then returned to the Arizona Historical Society, where she became R
 egistrar from 2007 until 2018 at the Phoenix Division.  During that time, S
 mith also worked part-time, helping at a historical property, Sahuaro Ranch
  Park, in Glendale, Arizona.  In 2018 she moved to Silver City and is now t
 he Registrar and Collections Manager for the Silver City Museum.   </p><p>T
 here are speakers on the patio if you wish to enjoy the service outside.</p
 ><p>UUFSC Safety Protocol as pursuant to our most recent UUA Guidelines:</p
 ><p>We will not be serving food or drinks in the building until further not
 ice. Masks will still need to be worn at all times indoors and out, except 
 when eating or drinking. We will continue to serve refreshments on the pati
 o, weather permitting. Visitors are always welcome. </p><p>The Unitarian Un
 iversalist Fellowship of Silver City is a diverse group of religious indepe
 ndents seeking knowledge, spiritual sustenance, fellowship and opportunitie
 s for service to others. Our programs encompass Humanism, liberal Christian
 ity, earth-based spirituality, Buddhism and many other traditions. If you’d
  like to find out more, email <joomla-hidden-mail  is-link="1" is-email="1"
  first="dXVmZWxsb3dzaGlwb2ZzaWx2ZXJjaXR5" last="Z21haWwuY29t" text="dXVmZWx
 sb3dzaGlwb2ZzaWx2ZXJjaXR5QGdtYWlsLmNvbQ==" base=""  target="_blank">This em
 ail address is being protected from spambots. You need JavaScript enabled t
 o view it.</joomla-hidden-mail>, visit our website at <a href="https://www.
 uufsc.com" target="_blank" rel="noopener">www.uufsc.com</a> or visit us on 
 Facebook at Unitarian-Universalist-Fellowship-of-Silver-City.</p>
DTSTAMP:20260425T130317
DTSTART;TZID=America/Denver:20221218T090000
DTEND;TZID=America/Denver:20221218T180000
SEQUENCE:0
TRANSP:OPAQUE
END:VEVENT
END:VCALENDAR